BEGIN:VCALENDAR
VERSION:2.0
PRODID:-//MŠ Křejpského - ECPv5.9.0//NONSGML v1.0//EN
CALSCALE:GREGORIAN
METHOD:PUBLISH
X-WR-CALNAME:MŠ Křejpského
X-ORIGINAL-URL:https://mskrejpskeho.cz
X-WR-CALDESC:Akce na MŠ Křejpského
BEGIN:VTIMEZONE
TZID:Europe/Prague
BEGIN:DAYLIGHT
TZOFFSETFROM:+0100
TZOFFSETTO:+0200
TZNAME:CEST
DTSTART:20250330T010000
END:DAYLIGHT
BEGIN:STANDARD
TZOFFSETFROM:+0200
TZOFFSETTO:+0100
TZNAME:CET
DTSTART:20251026T010000
END:STANDARD
END:VTIMEZONE
BEGIN:VEVENT
DTSTART;VALUE=DATE:20251201
DTEND;VALUE=DATE:20251206
DTSTAMP:20260425T164652
CREATED:20250702T071445Z
LAST-MODIFIED:20250702T071445Z
UID:2703-1764547200-1764979199@mskrejpskeho.cz
SUMMARY:Vánoční výstava
DESCRIPTION:
URL:https://mskrejpskeho.cz/kalendar/vanocni-vystava/
CATEGORIES:kalendář
END:VEVENT
END:VCALENDAR