BEGIN:VCALENDAR
VERSION:2.0
PRODID:-//MŠ Křejpského - ECPv5.9.0//NONSGML v1.0//EN
CALSCALE:GREGORIAN
METHOD:PUBLISH
X-WR-CALNAME:MŠ Křejpského
X-ORIGINAL-URL:https://mskrejpskeho.cz
X-WR-CALDESC:Akce na MŠ Křejpského
BEGIN:VTIMEZONE
TZID:Europe/Prague
BEGIN:DAYLIGHT
TZOFFSETFROM:+0100
TZOFFSETTO:+0200
TZNAME:CEST
DTSTART:20260329T010000
END:DAYLIGHT
BEGIN:STANDARD
TZOFFSETFROM:+0200
TZOFFSETTO:+0100
TZNAME:CET
DTSTART:20261025T010000
END:STANDARD
END:VTIMEZONE
BEGIN:VEVENT
DTSTART;TZID=Europe/Prague:20260512T110000
DTEND;TZID=Europe/Prague:20260512T120000
DTSTAMP:20260425T135358
CREATED:20250702T073440Z
LAST-MODIFIED:20250702T073440Z
UID:2743-1778583600-1778587200@mskrejpskeho.cz
SUMMARY:Divadlo Evy Hruškové
DESCRIPTION:
URL:https://mskrejpskeho.cz/kalendar/divadlo-evy-hruskove/
CATEGORIES:kalendář
END:VEVENT
END:VCALENDAR