BEGIN:VCALENDAR
VERSION:2.0
PRODID:-//MŠ Křejpského - ECPv5.9.0//NONSGML v1.0//EN
CALSCALE:GREGORIAN
METHOD:PUBLISH
X-WR-CALNAME:MŠ Křejpského
X-ORIGINAL-URL:https://mskrejpskeho.cz
X-WR-CALDESC:Akce na MŠ Křejpského
BEGIN:VTIMEZONE
TZID:Europe/Prague
BEGIN:DAYLIGHT
TZOFFSETFROM:+0100
TZOFFSETTO:+0200
TZNAME:CEST
DTSTART:20260329T010000
END:DAYLIGHT
BEGIN:STANDARD
TZOFFSETFROM:+0200
TZOFFSETTO:+0100
TZNAME:CET
DTSTART:20261025T010000
END:STANDARD
END:VTIMEZONE
BEGIN:VEVENT
DTSTART;VALUE=DATE:20260429
DTEND;VALUE=DATE:20260430
DTSTAMP:20260425T135053
CREATED:20250702T073027Z
LAST-MODIFIED:20250702T073027Z
UID:2735-1777420800-1777507199@mskrejpskeho.cz
SUMMARY:Čarodějnický den
DESCRIPTION:
URL:https://mskrejpskeho.cz/kalendar/carodejnicky-den/
CATEGORIES:kalendář
END:VEVENT
BEGIN:VEVENT
DTSTART;TZID=Europe/Prague:20260429T170000
DTEND;TZID=Europe/Prague:20260429T190000
DTSTAMP:20260425T135053
CREATED:20250702T073132Z
LAST-MODIFIED:20250702T073132Z
UID:2737-1777482000-1777489200@mskrejpskeho.cz
SUMMARY:Čarodějnická zahradní slavnost
DESCRIPTION:
URL:https://mskrejpskeho.cz/kalendar/carodejnicka-zahradni-slavnost/
CATEGORIES:kalendář
END:VEVENT
BEGIN:VEVENT
DTSTART;TZID=Europe/Prague:20260429T190000
DTEND;TZID=Europe/Prague:20260430T070000
DTSTAMP:20260425T135053
CREATED:20250702T073220Z
LAST-MODIFIED:20250702T073220Z
UID:2739-1777489200-1777532400@mskrejpskeho.cz
SUMMARY:Čarodějnické spaní ve školce
DESCRIPTION:
URL:https://mskrejpskeho.cz/kalendar/carodejnicke-spani-ve-skolce/
CATEGORIES:kalendář
END:VEVENT
BEGIN:VEVENT
DTSTART;TZID=Europe/Prague:20260430T090000
DTEND;TZID=Europe/Prague:20260430T110000
DTSTAMP:20260425T135053
CREATED:20250702T073401Z
LAST-MODIFIED:20250702T073401Z
UID:2741-1777539600-1777546800@mskrejpskeho.cz
SUMMARY:Bubnování se Sushou
DESCRIPTION:
URL:https://mskrejpskeho.cz/kalendar/bubnovani-se-sushou/
CATEGORIES:kalendář
END:VEVENT
BEGIN:VEVENT
DTSTART;TZID=Europe/Prague:20260512T110000
DTEND;TZID=Europe/Prague:20260512T120000
DTSTAMP:20260425T135053
CREATED:20250702T073440Z
LAST-MODIFIED:20250702T073440Z
UID:2743-1778583600-1778587200@mskrejpskeho.cz
SUMMARY:Divadlo Evy Hruškové
DESCRIPTION:
URL:https://mskrejpskeho.cz/kalendar/divadlo-evy-hruskove/
CATEGORIES:kalendář
END:VEVENT
BEGIN:VEVENT
DTSTART;TZID=Europe/Prague:20260514T163000
DTEND;TZID=Europe/Prague:20260514T173000
DTSTAMP:20260425T135053
CREATED:20250702T073537Z
LAST-MODIFIED:20250702T073537Z
UID:2745-1778776200-1778779800@mskrejpskeho.cz
SUMMARY:Zpívání pro maminky
DESCRIPTION:
URL:https://mskrejpskeho.cz/kalendar/zpivani-pro-maminky/
CATEGORIES:kalendář
END:VEVENT
BEGIN:VEVENT
DTSTART;TZID=Europe/Prague:20260603T090000
DTEND;TZID=Europe/Prague:20260603T103000
DTSTAMP:20260425T135053
CREATED:20250702T073639Z
LAST-MODIFIED:20250702T073639Z
UID:2747-1780477200-1780482600@mskrejpskeho.cz
SUMMARY:Oslava dne dětí
DESCRIPTION:
URL:https://mskrejpskeho.cz/kalendar/oslava-dne-deti/
CATEGORIES:kalendář
END:VEVENT
END:VCALENDAR